View In:
ArcGIS JavaScript
ArcGIS Online Map Viewer
ArcGIS Earth
ArcMap
ArcGIS Pro
View Footprint In:
ArcGIS Online Map Viewer
Service Description: Disclaimer for Provisional Database: The data you have secured from the U.S. Geological Survey (USGS) National Produced Waters Geochemical Database v2.2 are provisional and subject to revision. The data are released on the condition that neither the USGS nor the United States Government may be held liable for any damages resulting from their authorized or unauthorized use. Distribution Liability: Although the data have been processed on computer systems at the USGS, U.S. Department of the Interior, no warranty, expressed or implied, is made by the U.S. Geological Survey regarding the utility of the data on any other system, nor shall the act of distribution constitute any such warranty. No responsibility is assumed by the USGS in the use of these data. Additional Limitations: The information in the USGS National Produced Waters Geochemical Database v2.2 should be used with careful consideration of its limitations. The database is considered sufficiently accurate to provide an indication of tendencies in water composition from geographically and geologically defined areas. It is not appropriate for depiction of modern produced water compositions or examination of trends on small scales. The USGS makes no warranty regarding the accuracy or completeness of information presented in this database. Specific limitations of the database should be considered. Much of the information in the database cannot be independently verified. Methods of collection, sample preservation, analysis, assignment of geologic units and record keeping were not rigorous or standardized. Because of these uncertainties, users are advised to check data for inconsistencies, outliers, and obviously flawed information. Methods of well construction, sample collection and chemical analysis have changed over time. Samples in the database may not be spatially representative and do not necessarily reflect the distribution and relative amount of water produced within a province and among geologic units. No sampling was planned to accurately depict the aggregate water composition of any area whether it be province, state, county or field. The geologic unit nomenclature developed for petroleum production may have changed over time. Water data collected 30 years ago from a province may not resemble water samples from current production. The composition of produced water within a province, field, or even well may change over time as a result of water flooding, recompletion in other intervals, and workovers. Water samples are commonly collected when a well has production problems or during the initial development of a well. Although criteria were applied to remove the obviously contaminated samples, the culling of unrepresentative data is considered incomplete. Most of the obvious redundant entries were removed from this database. Many of the remaining records represent multiple samples of the same well. Therefore aggregate statistics may be weighted by relatively few wells.
Map Name: Layers
Legend
All Layers and Tables
Dynamic Legend
Dynamic All Layers
Layers:
Description:
Copyright Text: Madalyn Blondes, Kathleen Gans, James Thordsen, Randal Thomas, Mark A Engle, Yousif Kharaka, Elisabeth L Rowan. Map services and Web Application by Mark E Reidy
Spatial Reference:
102100
(3857)
Single Fused Map Cache: true
Tile Info:
- Height: 256
- Width: 256
- DPI: 96
-
Levels of Detail: 24
-
Level ID: 1
[ Start Tile, End Tile ]
- Resolution: 78271.5169639999
- Scale: 2.95828763795777E8
-
Level ID: 2
[ Start Tile, End Tile ]
- Resolution: 39135.7584820001
- Scale: 1.47914381897889E8
-
Level ID: 3
[ Start Tile, End Tile ]
- Resolution: 19567.8792409999
- Scale: 7.3957190948944E7
-
Level ID: 4
[ Start Tile, End Tile ]
- Resolution: 9783.93962049996
- Scale: 3.6978595474472E7
-
Level ID: 5
[ Start Tile, End Tile ]
- Resolution: 4891.96981024998
- Scale: 1.8489297737236E7
- Format: PNG
- Compression Quality: 0.0
- Origin: X: -2.0037508342787E7
Y: 2.0037508342787E7
- Spatial Reference: 102100
(3857)
Initial Extent:
XMin: -1.7928032024922736E7
YMin: 3688534.6667154143
XMax: -7264638.220618753
YMax: 1.0794169648452733E7
Spatial Reference: 102100
Full Extent:
XMin: -1.81198450284E7
YMin: 2910412.8022999987
XMax: -8416865.2996
YMax: 1.14932474732E7
Spatial Reference: 102100
Units: esriMeters
Supported Image Format Types: PNG32,PNG24,PNG,JPG,DIB,TIFF,EMF,PS,PDF,GIF,SVG,SVGZ,BMP
Document Info:
Title: USGS Produced Waters Database v2.3
Author: Madalyn Blondes, Kathleen Gans, James Thordsen, Randal Thomas, Mark A Engle, Yousif Kharaka, Elisabeth L Rowan. Map services and Web Application by Mark E Reidy
Comments: Disclaimer for Provisional Database: The data you have secured from the U.S. Geological Survey (USGS) National Produced Waters Geochemical Database v2.2 are provisional and subject to revision. The data are released on the condition that neither the USGS nor the United States Government may be held liable for any damages resulting from their authorized or unauthorized use. Distribution Liability: Although the data have been processed on computer systems at the USGS, U.S. Department of the Interior, no warranty, expressed or implied, is made by the U.S. Geological Survey regarding the utility of the data on any other system, nor shall the act of distribution constitute any such warranty. No responsibility is assumed by the USGS in the use of these data. Additional Limitations: The information in the USGS National Produced Waters Geochemical Database v2.2 should be used with careful consideration of its limitations. The database is considered sufficiently accurate to provide an indication of tendencies in water composition from geographically and geologically defined areas. It is not appropriate for depiction of modern produced water compositions or examination of trends on small scales. The USGS makes no warranty regarding the accuracy or completeness of information presented in this database. Specific limitations of the database should be considered. Much of the information in the database cannot be independently verified. Methods of collection, sample preservation, analysis, assignment of geologic units and record keeping were not rigorous or standardized. Because of these uncertainties, users are advised to check data for inconsistencies, outliers, and obviously flawed information. Methods of well construction, sample collection and chemical analysis have changed over time. Samples in the database may not be spatially representative and do not necessarily reflect the distribution and relative amount of water produced within a province and among geologic units. No sampling was planned to accurately depict the aggregate water composition of any area whether it be province, state, county or field. The geologic unit nomenclature developed for petroleum production may have changed over time. Water data collected 30 years ago from a province may not resemble water samples from current production. The composition of produced water within a province, field, or even well may change over time as a result of water flooding, recompletion in other intervals, and workovers. Water samples are commonly collected when a well has production problems or during the initial development of a well. Although criteria were applied to remove the obviously contaminated samples, the culling of unrepresentative data is considered incomplete. Most of the obvious redundant entries were removed from this database. Many of the remaining records represent multiple samples of the same well. Therefore aggregate statistics may be weighted by relatively few wells.
Subject: USGS Produced Waters Database v2.3
Category:
Keywords: Produced Waters
AntialiasingMode: None
TextAntialiasingMode: Force
Supports Dynamic Layers: true
MaxRecordCount: 1000
MaxImageHeight: 4096
MaxImageWidth: 4096
Supported Query Formats: JSON, geoJSON
Min Scale: 5.91657527591555E8
Max Scale: 144447.638572
Supports Datum Transformation: true
Child Resources:
Info
Dynamic Layer
Supported Operations:
Export Map
Identify
QueryDomains
QueryLegends
Find
Return Updates
Generate KML