{
 "currentVersion": 10.71,
 "serviceDescription": "Disclaimer for Provisional Database: The data you have secured from the U.S. Geological Survey (USGS) National Produced Waters Geochemical Database v2.2 are provisional and subject to revision. The data are released on the condition that neither the USGS nor the United States Government may be held liable for any damages resulting from their authorized or unauthorized use. Distribution Liability: Although the data have been processed on computer systems at the USGS, U.S. Department of the Interior, no warranty, expressed or implied, is made by the U.S. Geological Survey regarding the utility of the data on any other system, nor shall the act of distribution constitute any such warranty. No responsibility is assumed by the USGS in the use of these data. Additional Limitations: The information in the USGS National Produced Waters Geochemical Database v2.2 should be used with careful consideration of its limitations. The database is considered sufficiently accurate to provide an indication of tendencies in water composition from geographically and geologically defined areas. It is not appropriate for depiction of modern produced water compositions or examination of trends on small scales. The USGS makes no warranty regarding the accuracy or completeness of information presented in this database. Specific limitations of the database should be considered. Much of the information in the database cannot be independently verified. Methods of collection, sample preservation, analysis, assignment of geologic units and record keeping were not rigorous or standardized. Because of these uncertainties, users are advised to check data for inconsistencies, outliers, and obviously flawed information. Methods of well construction, sample collection and chemical analysis have changed over time. Samples in the database may not be spatially representative and do not necessarily reflect the distribution and relative amount of water produced within a province and among geologic units. No sampling was planned to accurately depict the aggregate water composition of any area whether it be province, state, county or field. The geologic unit nomenclature developed for petroleum production may have changed over time. Water data collected 30 years ago from a province may not resemble water samples from current production. The composition of produced water within a province, field, or even well may change over time as a result of water flooding, recompletion in other intervals, and workovers. Water samples are commonly collected when a well has production problems or during the initial development of a well. Although criteria were applied to remove the obviously contaminated samples, the culling of unrepresentative data is considered incomplete. Most of the obvious redundant entries were removed from this database. Many of the remaining records represent multiple samples of the same well. Therefore aggregate statistics may be weighted by relatively few wells. ",
 "mapName": "Layers",
 "description": "",
 "copyrightText": "Madalyn Blondes, Kathleen Gans, James Thordsen, Randal Thomas, Mark A Engle, Yousif Kharaka, Elisabeth L Rowan. Map services and Web Application by Mark E Reidy ",
 "supportsDynamicLayers": true,
 "layers": [
  {
   "id": 0,
   "name": "usgspwdb23_wmas",
   "parentLayerId": -1,
   "defaultVisibility": true,
   "subLayerIds": null,
   "minScale": 0,
   "maxScale": 0,
   "type": "Feature Layer",
   "geometryType": "esriGeometryPoint"
  }
 ],
 "tables": [],
 "spatialReference": {
  "wkid": 102100,
  "latestWkid": 3857
 },
 "singleFusedMapCache": true,
 "tileInfo": {
  "rows": 256,
  "cols": 256,
  "dpi": 96,
  "format": "PNG",
  "compressionQuality": 0,
  "origin": {
   "x": -2.0037508342787E7,
   "y": 2.0037508342787E7
  },
  "spatialReference": {
   "wkid": 102100,
   "latestWkid": 3857
  },
  "lods": [
   {
    "level": 0,
    "resolution": 156543.033928,
    "scale": 5.91657527591555E8
   },
   {
    "level": 1,
    "resolution": 78271.5169639999,
    "scale": 2.95828763795777E8
   },
   {
    "level": 2,
    "resolution": 39135.7584820001,
    "scale": 1.47914381897889E8
   },
   {
    "level": 3,
    "resolution": 19567.8792409999,
    "scale": 7.3957190948944E7
   },
   {
    "level": 4,
    "resolution": 9783.93962049996,
    "scale": 3.6978595474472E7
   },
   {
    "level": 5,
    "resolution": 4891.96981024998,
    "scale": 1.8489297737236E7
   },
   {
    "level": 6,
    "resolution": 2445.98490512499,
    "scale": 9244648.868618
   },
   {
    "level": 7,
    "resolution": 1222.99245256249,
    "scale": 4622324.434309
   },
   {
    "level": 8,
    "resolution": 611.49622628138,
    "scale": 2311162.217155
   },
   {
    "level": 9,
    "resolution": 305.748113140558,
    "scale": 1155581.108577
   },
   {
    "level": 10,
    "resolution": 152.874056570411,
    "scale": 577790.554289
   },
   {
    "level": 11,
    "resolution": 76.4370282850732,
    "scale": 288895.277144
   },
   {
    "level": 12,
    "resolution": 38.2185141425366,
    "scale": 144447.638572
   },
   {
    "level": 13,
    "resolution": 19.1092570712683,
    "scale": 72223.819286
   },
   {
    "level": 14,
    "resolution": 9.55462853563415,
    "scale": 36111.909643
   },
   {
    "level": 15,
    "resolution": 4.77731426794937,
    "scale": 18055.954822
   },
   {
    "level": 16,
    "resolution": 2.38865713397468,
    "scale": 9027.977411
   },
   {
    "level": 17,
    "resolution": 1.19432856685505,
    "scale": 4513.988705
   },
   {
    "level": 18,
    "resolution": 0.597164283559817,
    "scale": 2256.994353
   },
   {
    "level": 19,
    "resolution": 0.298582141647617,
    "scale": 1128.497176
   },
   {
    "level": 20,
    "resolution": 0.14929107082380833,
    "scale": 564.248588
   },
   {
    "level": 21,
    "resolution": 0.07464553541190416,
    "scale": 282.124294
   },
   {
    "level": 22,
    "resolution": 0.03732276770595208,
    "scale": 141.062147
   },
   {
    "level": 23,
    "resolution": 0.01866138385297604,
    "scale": 70.5310735
   }
  ]
 },
 "initialExtent": {
  "xmin": -1.7928032024922736E7,
  "ymin": 3688534.6667154143,
  "xmax": -7264638.220618753,
  "ymax": 1.0794169648452733E7,
  "spatialReference": {
   "cs": "pcs",
   "wkid": 102100
  }
 },
 "fullExtent": {
  "xmin": -1.81198450284E7,
  "ymin": 2910412.8022999987,
  "xmax": -8416865.2996,
  "ymax": 1.14932474732E7,
  "spatialReference": {
   "cs": "pcs",
   "wkid": 102100
  }
 },
 "minScale": 5.91657527591555E8,
 "maxScale": 144447.638572,
 "units": "esriMeters",
 "supportedImageFormatTypes": "PNG32,PNG24,PNG,JPG,DIB,TIFF,EMF,PS,PDF,GIF,SVG,SVGZ,BMP",
 "documentInfo": {
  "Title": "USGS Produced Waters Database v2.3",
  "Author": "Madalyn Blondes, Kathleen Gans, James Thordsen, Randal Thomas, Mark A Engle, Yousif Kharaka, Elisabeth L Rowan. Map services and Web Application by Mark E Reidy ",
  "Comments": "Disclaimer for Provisional Database: The data you have secured from the U.S. Geological Survey (USGS) National Produced Waters Geochemical Database v2.2 are provisional and subject to revision. The data are released on the condition that neither the USGS nor the United States Government may be held liable for any damages resulting from their authorized or unauthorized use. Distribution Liability: Although the data have been processed on computer systems at the USGS, U.S. Department of the Interior, no warranty, expressed or implied, is made by the U.S. Geological Survey regarding the utility of the data on any other system, nor shall the act of distribution constitute any such warranty. No responsibility is assumed by the USGS in the use of these data. Additional Limitations: The information in the USGS National Produced Waters Geochemical Database v2.2 should be used with careful consideration of its limitations. The database is considered sufficiently accurate to provide an indication of tendencies in water composition from geographically and geologically defined areas. It is not appropriate for depiction of modern produced water compositions or examination of trends on small scales. The USGS makes no warranty regarding the accuracy or completeness of information presented in this database. Specific limitations of the database should be considered. Much of the information in the database cannot be independently verified. Methods of collection, sample preservation, analysis, assignment of geologic units and record keeping were not rigorous or standardized. Because of these uncertainties, users are advised to check data for inconsistencies, outliers, and obviously flawed information. Methods of well construction, sample collection and chemical analysis have changed over time. Samples in the database may not be spatially representative and do not necessarily reflect the distribution and relative amount of water produced within a province and among geologic units. No sampling was planned to accurately depict the aggregate water composition of any area whether it be province, state, county or field. The geologic unit nomenclature developed for petroleum production may have changed over time. Water data collected 30 years ago from a province may not resemble water samples from current production. The composition of produced water within a province, field, or even well may change over time as a result of water flooding, recompletion in other intervals, and workovers. Water samples are commonly collected when a well has production problems or during the initial development of a well. Although criteria were applied to remove the obviously contaminated samples, the culling of unrepresentative data is considered incomplete. Most of the obvious redundant entries were removed from this database. Many of the remaining records represent multiple samples of the same well. Therefore aggregate statistics may be weighted by relatively few wells. ",
  "Subject": "USGS Produced Waters Database v2.3",
  "Category": "",
  "AntialiasingMode": "None",
  "TextAntialiasingMode": "Force",
  "Keywords": "Produced Waters"
 },
 "capabilities": "Map,Query,Data",
 "supportedQueryFormats": "JSON, geoJSON",
 "exportTilesAllowed": false,
 "supportsDatumTransformation": true,
 "maxRecordCount": 1000,
 "maxImageHeight": 4096,
 "maxImageWidth": 4096,
 "supportedExtensions": "KmlServer"
}
