View In:
ArcGIS JavaScript
ArcGIS Online Map Viewer
ArcGIS Earth
ArcMap
ArcGIS Pro
View Footprint In:
ArcGIS Online Map Viewer
Service Description: The U.S. Geological Survey Energy Resources Program has developed coal databases to characterize the location, quantity, and physical attributes and chemistry of U.S. coal and coal-related deposits. The National Coal Resources Data System (NCRDS) database is an integrated system utilizing commercial software to produce maps, resource calculations, and coal quality location maps. NCRDS databases contain coal data from Federal and State agencies, universities, the private sector, and foreign countries. NCRDS is comprised of three major components - COALQUAL, USTRAT, and USCOAL:
Coal point-source and chemical data (COALQUAL) containing geodetic location, field observations, sample analyses, bed thickness; lithology; depth of burial, moisture, ash, and sulfur content, heat value, and major-, minor-trace-element contents.
A point-source stratigraphic database (USTRAT), which is supported by a federally-funded cooperative program with geological surveys and universities in 22 States. Some stratigraphic data are publicly available. Index of public points by state and county (Updated July 2008 -- spreadsheet format). Contact the USGS for a download of publicly available data. Plans to update the online availability of USTRAT are underway.
Coal distribution data (USCOAL) containing various published coal-resource estimates dating from 1940 to 1978. This historical database for coal-bearing States lists: State, county, coal field, geologic age, formation, rank, coal thickness, overburden thickness, and reliability of the published resource estimates. The summary resources total approximately to the estimates of Paul Averitt in USGS Bulletin 1412 -- Coal resources of the United States- January 1, 1974.
An assessment of the Powder River Basin has been recently completed and the data derived from the assessment is being released as Data Series 713. The Powder River Basin stratigraphic data is also being processed into the National Coal Resources Data System USTRAT database and will be available for download through the NCRDS database query tools in the near future.
Map Name: Layers
Legend
All Layers and Tables
Dynamic Legend
Dynamic All Layers
Layers:
Tables:
Description:
Copyright Text:
Spatial Reference:
102100
(3857)
Single Fused Map Cache: true
Tile Info:
- Height: 256
- Width: 256
- DPI: 96
-
Levels of Detail: 24
-
Level ID: 1
[ Start Tile, End Tile ]
- Resolution: 78271.5169639999
- Scale: 2.95828763795777E8
-
Level ID: 2
[ Start Tile, End Tile ]
- Resolution: 39135.7584820001
- Scale: 1.47914381897889E8
-
Level ID: 3
[ Start Tile, End Tile ]
- Resolution: 19567.8792409999
- Scale: 7.3957190948944E7
-
Level ID: 4
[ Start Tile, End Tile ]
- Resolution: 9783.93962049996
- Scale: 3.6978595474472E7
-
Level ID: 5
[ Start Tile, End Tile ]
- Resolution: 4891.96981024998
- Scale: 1.8489297737236E7
- Format: PNG
- Compression Quality: 0.0
- Origin: X: -2.0037508342787E7
Y: 2.0037508342787E7
- Spatial Reference: 102100
(3857)
Initial Extent:
XMin: -1.3346275315929865E7
YMin: 3868536.7686231304
XMax: -8067839.8906701375
YMax: 7385863.062192865
Spatial Reference: 102100
Full Extent:
XMin: -1.26998385458E7
YMin: 3493128.3655999973
XMax: -8714276.6608
YMax: 6274112.6428999975
Spatial Reference: 102100
Units: esriMeters
Supported Image Format Types: PNG32,PNG24,PNG,JPG,DIB,TIFF,EMF,PS,PDF,GIF,SVG,SVGZ,BMP
Document Info:
Title: NCRDS Public Points
Author:
Comments: The U.S. Geological Survey Energy Resources Program has developed coal databases to characterize the location, quantity, and physical attributes and chemistry of U.S. coal and coal-related deposits. The National Coal Resources Data System (NCRDS) database is an integrated system utilizing commercial software to produce maps, resource calculations, and coal quality location maps. NCRDS databases contain coal data from Federal and State agencies, universities, the private sector, and foreign countries. NCRDS is comprised of three major components - COALQUAL, USTRAT, and USCOAL:
Coal point-source and chemical data (COALQUAL) containing geodetic location, field observations, sample analyses, bed thickness; lithology; depth of burial, moisture, ash, and sulfur content, heat value, and major-, minor-trace-element contents.
A point-source stratigraphic database (USTRAT), which is supported by a federally-funded cooperative program with geological surveys and universities in 22 States. Some stratigraphic data are publicly available. Index of public points by state and county (Updated July 2008 -- spreadsheet format). Contact the USGS for a download of publicly available data. Plans to update the online availability of USTRAT are underway.
Coal distribution data (USCOAL) containing various published coal-resource estimates dating from 1940 to 1978. This historical database for coal-bearing States lists: State, county, coal field, geologic age, formation, rank, coal thickness, overburden thickness, and reliability of the published resource estimates. The summary resources total approximately to the estimates of Paul Averitt in USGS Bulletin 1412 -- Coal resources of the United States- January 1, 1974.
An assessment of the Powder River Basin has been recently completed and the data derived from the assessment is being released as Data Series 713. The Powder River Basin stratigraphic data is also being processed into the National Coal Resources Data System USTRAT database and will be available for download through the NCRDS database query tools in the near future.
Subject: USTRAT public points
Category:
Keywords: NCRDS,USSTRAT,USCOAL
AntialiasingMode: None
TextAntialiasingMode: Force
Supports Dynamic Layers: true
MaxRecordCount: 1000
MaxImageHeight: 4096
MaxImageWidth: 4096
Supported Query Formats: JSON, geoJSON
Min Scale: 5.91657527591555E8
Max Scale: 72223.819286
Supports Datum Transformation: true
Child Resources:
Info
Dynamic Layer
Supported Operations:
Export Map
Identify
QueryDomains
QueryLegends
Find
Return Updates
Generate KML