{
 "currentVersion": 10.71,
 "serviceDescription": "The U.S. Geological Survey Energy Resources Program has developed coal databases to characterize the location, quantity, and physical attributes and chemistry of U.S. coal and coal-related deposits. The National Coal Resources Data System (NCRDS) database is an integrated system utilizing commercial software to produce maps, resource calculations, and coal quality location maps. NCRDS databases contain coal data from Federal and State agencies, universities, the private sector, and foreign countries. NCRDS is comprised of three major components - COALQUAL, USTRAT, and USCOAL:\n\n Coal point-source and chemical data (COALQUAL) containing geodetic location, field observations, sample analyses, bed thickness; lithology; depth of burial, moisture, ash, and sulfur content, heat value, and major-, minor-trace-element contents.\n\n A point-source stratigraphic database (USTRAT), which is supported by a federally-funded cooperative program with geological surveys and universities in 22 States. Some stratigraphic data are publicly available. Index of public points by state and county (Updated July 2008 -- spreadsheet format). Contact the USGS for a download of publicly available data. Plans to update the online availability of USTRAT are underway.\n\n Coal distribution data (USCOAL) containing various published coal-resource estimates dating from 1940 to 1978. This historical database for coal-bearing States lists: State, county, coal field, geologic age, formation, rank, coal thickness, overburden thickness, and reliability of the published resource estimates. The summary resources total approximately to the estimates of Paul Averitt in USGS Bulletin 1412 -- Coal resources of the United States- January 1, 1974.\n\n An assessment of the Powder River Basin has been recently completed and the data derived from the assessment is being released as Data Series 713. The Powder River Basin stratigraphic data is also being processed into the National Coal Resources Data System USTRAT database and will be available for download through the NCRDS database query tools in the near future.\n",
 "mapName": "Layers",
 "description": "",
 "copyrightText": "",
 "supportsDynamicLayers": true,
 "layers": [
  {
   "id": 0,
   "name": "Public Points",
   "parentLayerId": -1,
   "defaultVisibility": true,
   "subLayerIds": null,
   "minScale": 0,
   "maxScale": 0,
   "type": "Feature Layer",
   "geometryType": "esriGeometryPoint"
  }
 ],
 "tables": [
  {
   "id": 1,
   "name": "public_units",
   "type": "Table"
  }
 ],
 "spatialReference": {
  "wkid": 102100,
  "latestWkid": 3857
 },
 "singleFusedMapCache": true,
 "tileInfo": {
  "rows": 256,
  "cols": 256,
  "dpi": 96,
  "format": "PNG",
  "compressionQuality": 0,
  "origin": {
   "x": -2.0037508342787E7,
   "y": 2.0037508342787E7
  },
  "spatialReference": {
   "wkid": 102100,
   "latestWkid": 3857
  },
  "lods": [
   {
    "level": 0,
    "resolution": 156543.033928,
    "scale": 5.91657527591555E8
   },
   {
    "level": 1,
    "resolution": 78271.5169639999,
    "scale": 2.95828763795777E8
   },
   {
    "level": 2,
    "resolution": 39135.7584820001,
    "scale": 1.47914381897889E8
   },
   {
    "level": 3,
    "resolution": 19567.8792409999,
    "scale": 7.3957190948944E7
   },
   {
    "level": 4,
    "resolution": 9783.93962049996,
    "scale": 3.6978595474472E7
   },
   {
    "level": 5,
    "resolution": 4891.96981024998,
    "scale": 1.8489297737236E7
   },
   {
    "level": 6,
    "resolution": 2445.98490512499,
    "scale": 9244648.868618
   },
   {
    "level": 7,
    "resolution": 1222.99245256249,
    "scale": 4622324.434309
   },
   {
    "level": 8,
    "resolution": 611.49622628138,
    "scale": 2311162.217155
   },
   {
    "level": 9,
    "resolution": 305.748113140558,
    "scale": 1155581.108577
   },
   {
    "level": 10,
    "resolution": 152.874056570411,
    "scale": 577790.554289
   },
   {
    "level": 11,
    "resolution": 76.4370282850732,
    "scale": 288895.277144
   },
   {
    "level": 12,
    "resolution": 38.2185141425366,
    "scale": 144447.638572
   },
   {
    "level": 13,
    "resolution": 19.1092570712683,
    "scale": 72223.819286
   },
   {
    "level": 14,
    "resolution": 9.55462853563415,
    "scale": 36111.909643
   },
   {
    "level": 15,
    "resolution": 4.77731426794937,
    "scale": 18055.954822
   },
   {
    "level": 16,
    "resolution": 2.38865713397468,
    "scale": 9027.977411
   },
   {
    "level": 17,
    "resolution": 1.19432856685505,
    "scale": 4513.988705
   },
   {
    "level": 18,
    "resolution": 0.597164283559817,
    "scale": 2256.994353
   },
   {
    "level": 19,
    "resolution": 0.298582141647617,
    "scale": 1128.497176
   },
   {
    "level": 20,
    "resolution": 0.14929107082380833,
    "scale": 564.248588
   },
   {
    "level": 21,
    "resolution": 0.07464553541190416,
    "scale": 282.124294
   },
   {
    "level": 22,
    "resolution": 0.03732276770595208,
    "scale": 141.062147
   },
   {
    "level": 23,
    "resolution": 0.01866138385297604,
    "scale": 70.5310735
   }
  ]
 },
 "initialExtent": {
  "xmin": -1.3346275315929865E7,
  "ymin": 3868536.7686231304,
  "xmax": -8067839.8906701375,
  "ymax": 7385863.062192865,
  "spatialReference": {
   "cs": "pcs",
   "wkid": 102100
  }
 },
 "fullExtent": {
  "xmin": -1.26998385458E7,
  "ymin": 3493128.3655999973,
  "xmax": -8714276.6608,
  "ymax": 6274112.6428999975,
  "spatialReference": {
   "cs": "pcs",
   "wkid": 102100
  }
 },
 "minScale": 5.91657527591555E8,
 "maxScale": 72223.819286,
 "units": "esriMeters",
 "supportedImageFormatTypes": "PNG32,PNG24,PNG,JPG,DIB,TIFF,EMF,PS,PDF,GIF,SVG,SVGZ,BMP",
 "documentInfo": {
  "Title": "NCRDS Public Points",
  "Author": "",
  "Comments": "The U.S. Geological Survey Energy Resources Program has developed coal databases to characterize the location, quantity, and physical attributes and chemistry of U.S. coal and coal-related deposits. The National Coal Resources Data System (NCRDS) database is an integrated system utilizing commercial software to produce maps, resource calculations, and coal quality location maps. NCRDS databases contain coal data from Federal and State agencies, universities, the private sector, and foreign countries. NCRDS is comprised of three major components - COALQUAL, USTRAT, and USCOAL:\n\n Coal point-source and chemical data (COALQUAL) containing geodetic location, field observations, sample analyses, bed thickness; lithology; depth of burial, moisture, ash, and sulfur content, heat value, and major-, minor-trace-element contents.\n\n A point-source stratigraphic database (USTRAT), which is supported by a federally-funded cooperative program with geological surveys and universities in 22 States. Some stratigraphic data are publicly available. Index of public points by state and county (Updated July 2008 -- spreadsheet format). Contact the USGS for a download of publicly available data. Plans to update the online availability of USTRAT are underway.\n\n Coal distribution data (USCOAL) containing various published coal-resource estimates dating from 1940 to 1978. This historical database for coal-bearing States lists: State, county, coal field, geologic age, formation, rank, coal thickness, overburden thickness, and reliability of the published resource estimates. The summary resources total approximately to the estimates of Paul Averitt in USGS Bulletin 1412 -- Coal resources of the United States- January 1, 1974.\n\n An assessment of the Powder River Basin has been recently completed and the data derived from the assessment is being released as Data Series 713. The Powder River Basin stratigraphic data is also being processed into the National Coal Resources Data System USTRAT database and will be available for download through the NCRDS database query tools in the near future.\n",
  "Subject": "USTRAT public points",
  "Category": "",
  "AntialiasingMode": "None",
  "TextAntialiasingMode": "Force",
  "Keywords": "NCRDS,USSTRAT,USCOAL"
 },
 "capabilities": "Map,Query,Data",
 "supportedQueryFormats": "JSON, geoJSON",
 "exportTilesAllowed": false,
 "supportsDatumTransformation": true,
 "maxRecordCount": 1000,
 "maxImageHeight": 4096,
 "maxImageWidth": 4096,
 "supportedExtensions": "KmlServer"
}
