View In:
ArcGIS JavaScript
ArcGIS Online Map Viewer
ArcGIS Earth
ArcMap
ArcGIS Pro
View Footprint In:
ArcGIS Online Map Viewer
Service Description: In January, 2016, the Secretary of the Department of the Interior tasked the U.S. Geological Survey (USGS) to produce a publically available and annually updated database of estimated greenhouse gas emissions from fossil fuel production on Federal lands. The Federal Lands Greenhouse Gas Emissions and Sequestration (FLGGES) project was formed to produce the requested estimates. National estimates of emissions are produced by the U.S. Environmental Protection Agency (EPA), but are not reported by Federal lands specifically. Therefore, this USGS effort relies heavily on the established methods used by the EPA, but uses Federal lands specific data to report emissions by Federal lands down to the State level. In addition, the USGS is supplementing the estimated emissions with the estimated uptake of carbon, or biological sequestration, associated with plants and other organisms on Federal lands. For clarity and ease of comparison between emissions and sequestration estimates, the values in this report are all presented in equivalent amounts of CO2 gas.
Map Name: Layers
Legend
All Layers and Tables
Dynamic Legend
Dynamic All Layers
Layers:
Description:
Copyright Text:
Spatial Reference:
102100
(3857)
Single Fused Map Cache: true
Tile Info:
- Height: 256
- Width: 256
- DPI: 96
-
Levels of Detail: 24
-
Level ID: 1
[ Start Tile, End Tile ]
- Resolution: 78271.5169639999
- Scale: 2.95828763795777E8
-
Level ID: 2
[ Start Tile, End Tile ]
- Resolution: 39135.7584820001
- Scale: 1.47914381897889E8
-
Level ID: 3
[ Start Tile, End Tile ]
- Resolution: 19567.8792409999
- Scale: 7.3957190948944E7
-
Level ID: 4
[ Start Tile, End Tile ]
- Resolution: 9783.93962049996
- Scale: 3.6978595474472E7
-
Level ID: 5
[ Start Tile, End Tile ]
- Resolution: 4891.96981024998
- Scale: 1.8489297737236E7
- Format: PNG
- Compression Quality: 0.0
- Origin: X: -2.0037508342787E7
Y: 2.0037508342787E7
- Spatial Reference: 102100
(3857)
Initial Extent:
XMin: -2.4081100837124433E7
YMin: 3413921.1716425316
XMax: -2967359.1360855214
YMax: 1.748322634592147E7
Spatial Reference: 102100
Full Extent:
XMin: -1.99410397186E7
YMin: 1999507.0240999982
XMax: 2.0013930067500003E7
YMax: 1.1539767163800001E7
Spatial Reference: 102100
Units: esriMeters
Supported Image Format Types: PNG32,PNG24,PNG,JPG,DIB,TIFF,EMF,PS,PDF,GIF,SVG,SVGZ,BMP
Document Info:
Title: USGS Interactive Map of Federal Lands Greenhouse Gas Emissions and Sequestration (FLGGES)
Author: Matthew D. Merrill
Comments: In January, 2016, the Secretary of the Department of the Interior tasked the U.S. Geological Survey (USGS) to produce a publically available and annually updated database of estimated greenhouse gas emissions from fossil fuel production on Federal lands. The Federal Lands Greenhouse Gas Emissions and Sequestration (FLGGES) project was formed to produce the requested estimates. National estimates of emissions are produced by the U.S. Environmental Protection Agency (EPA), but are not reported by Federal lands specifically. Therefore, this USGS effort relies heavily on the established methods used by the EPA, but uses Federal lands specific data to report emissions by Federal lands down to the State level. In addition, the USGS is supplementing the estimated emissions with the estimated uptake of carbon, or biological sequestration, associated with plants and other organisms on Federal lands. For clarity and ease of comparison between emissions and sequestration estimates, the values in this report are all presented in equivalent amounts of CO2 gas.
Subject: USGS Interactive Map of Federal Lands Greenhouse Gas Emissions and Sequestration (FLGGES)
Category:
Keywords: FLGGES
AntialiasingMode: None
TextAntialiasingMode: Force
Supports Dynamic Layers: true
MaxRecordCount: 1000
MaxImageHeight: 4096
MaxImageWidth: 4096
Supported Query Formats: JSON, geoJSON
Min Scale: 5.91657527591555E8
Max Scale: 288895.277144
Supports Datum Transformation: true
Child Resources:
Info
Dynamic Layer
Supported Operations:
Export Map
Identify
QueryDomains
QueryLegends
Find
Return Updates
Generate KML