View In:
ArcGIS JavaScript
ArcGIS Online Map Viewer
ArcGIS Earth
ArcMap
ArcGIS Pro
View Footprint In:
ArcGIS Online Map Viewer
Service Description: Abstract
This map sheet with accompanying Geographic Information System (GIS) project is an update of the existing U.S. Geological Survey (USGS) Conterminous U.S. Coal Fields map. This update was compiled using data primarily from the USGS National Coal Resource Assessment (NCRA) and information from other published maps. The five regions examined by NCRA (Eastern, Gulf Coast, Interior, Rocky Mountain, and Northern Great Plains) constituted 93 percent of U.S. coal production at the time of the assessments. The map sheet shows aerial extent, rank, province, name (region and field), and age information, which are also attributes of the GIS project. Due to changing technological and economic constraints for coal usage, along with the potential for geologic carbon dioxide sequestration, this map sheet and the GIS component of this report do not differentiate between potentially minable coal and uneconomic coal. Additional figures on the map sheet show coal formations, current production by State, coal rank definitions, and charts showing historical trends of coal production.
East, J.A., 2013, Coal fields of the conterminous United States—National Coal Resource Assessment updated version: U.S. Geological Survey Open-File Report 2012–1205, one sheet, scale 1:5,000,000, available at http://pubs.usgs.gov/of/2012/1205/
Map Name: Layers
Legend
All Layers and Tables
Dynamic Legend
Dynamic All Layers
Layers:
Description:
Copyright Text:
Spatial Reference:
102100
(3857)
Single Fused Map Cache: true
Tile Info:
- Height: 256
- Width: 256
- DPI: 96
-
Levels of Detail: 24
-
Level ID: 1
[ Start Tile, End Tile ]
- Resolution: 78271.5169639999
- Scale: 2.95828763795777E8
-
Level ID: 2
[ Start Tile, End Tile ]
- Resolution: 39135.7584820001
- Scale: 1.47914381897889E8
-
Level ID: 3
[ Start Tile, End Tile ]
- Resolution: 19567.8792409999
- Scale: 7.3957190948944E7
-
Level ID: 4
[ Start Tile, End Tile ]
- Resolution: 9783.93962049996
- Scale: 3.6978595474472E7
-
Level ID: 5
[ Start Tile, End Tile ]
- Resolution: 4891.96981024998
- Scale: 1.8489297737236E7
- Format: PNG
- Compression Quality: 0.0
- Origin: X: -2.0037508342787E7
Y: 2.0037508342787E7
- Spatial Reference: 102100
(3857)
Initial Extent:
XMin: -1.342226942457787E7
YMin: 3662281.8933239006
XMax: -8342138.193722136
YMax: 7047466.652346395
Spatial Reference: 102100
Full Extent:
XMin: -1.3844079967E7
YMin: 3003294.840300001
XMax: -7920327.6513
YMax: 6275165.573600002
Spatial Reference: 102100
Units: esriMeters
Supported Image Format Types: PNG32,PNG24,PNG,JPG,DIB,TIFF,EMF,PS,PDF,GIF,SVG,SVGZ,BMP
Document Info:
Title: Coal Fields of the Conterminous United States: National Coal Resource Assessment Updated Version
Author: East, J.A.
Comments: Abstract
This map sheet with accompanying Geographic Information System (GIS) project is an update of the existing U.S. Geological Survey (USGS) Conterminous U.S. Coal Fields map. This update was compiled using data primarily from the USGS National Coal Resource Assessment (NCRA) and information from other published maps. The five regions examined by NCRA (Eastern, Gulf Coast, Interior, Rocky Mountain, and Northern Great Plains) constituted 93 percent of U.S. coal production at the time of the assessments. The map sheet shows aerial extent, rank, province, name (region and field), and age information, which are also attributes of the GIS project. Due to changing technological and economic constraints for coal usage, along with the potential for geologic carbon dioxide sequestration, this map sheet and the GIS component of this report do not differentiate between potentially minable coal and uneconomic coal. Additional figures on the map sheet show coal formations, current production by State, coal rank definitions, and charts showing historical trends of coal production.
East, J.A., 2013, Coal fields of the conterminous United States—National Coal Resource Assessment updated version: U.S. Geological Survey Open-File Report 2012–1205, one sheet, scale 1:5,000,000, available at http://pubs.usgs.gov/of/2012/1205/
Subject: Coal Fields of the Conterminous United States: National Coal Resource Assessment Updated Version
Category:
Keywords: NCRDS,USSTRAT,USCOAL
AntialiasingMode: None
TextAntialiasingMode: Force
Supports Dynamic Layers: true
MaxRecordCount: 1000
MaxImageHeight: 4096
MaxImageWidth: 4096
Supported Query Formats: JSON, geoJSON
Min Scale: 5.91657527591555E8
Max Scale: 72223.819286
Supports Datum Transformation: true
Child Resources:
Info
Dynamic Layer
Supported Operations:
Export Map
Identify
QueryDomains
QueryLegends
Find
Return Updates
Generate KML