{
 "currentVersion": 10.71,
 "serviceDescription": "This project provides a publicly available, spatially referenced, national dataset of wind turbine locations and their corresponding facility information and turbine technical specifications. The project compiled wind turbine information from the Federal Aviation Administration (FAA), Lawrence Berkeley National Laboratory (LBNL), the American Wind Energy Association (AWEA), and United States Geological Survey (USGS) dataset, as well as online sources.\n\nAlthough this digital spatial database has been subjected to rigorous review and is substantially complete, it is released on the condition that neither the USGS, LBNL, AWEA nor the United States Government nor any agency thereof, nor any employees thereof, makes any warranty, expressed or implied, or assumes any legal liability or responsibility for the accuracy, completeness, or usefulness of any information contained within the database.",
 "mapName": "United States Wind Turbine Database (USWTDB)",
 "description": "This project provides a publicly available, spatially referenced, national dataset of wind turbine locations and their corresponding facility information and turbine technical specifications. The project compiled wind turbine information from the Federal Aviation Administration (FAA), Lawrence Berkeley National Laboratory (LBNL), the American Wind Energy Association (AWEA), and United States Geological Survey (USGS) dataset, as well as online sources.",
 "copyrightText": "USGS, LBNL, and AWEA",
 "supportsDynamicLayers": true,
 "layers": [
  {
   "id": 0,
   "name": "USWTDB",
   "parentLayerId": -1,
   "defaultVisibility": true,
   "subLayerIds": null,
   "minScale": 147914384,
   "maxScale": 2256,
   "type": "Feature Layer",
   "geometryType": "esriGeometryPoint"
  }
 ],
 "tables": [],
 "spatialReference": {
  "wkid": 102100,
  "latestWkid": 3857
 },
 "singleFusedMapCache": true,
 "tileInfo": {
  "rows": 256,
  "cols": 256,
  "dpi": 96,
  "format": "PNG",
  "compressionQuality": 0,
  "origin": {
   "x": -2.0037508342787E7,
   "y": 2.0037508342787E7
  },
  "spatialReference": {
   "wkid": 102100,
   "latestWkid": 3857
  },
  "lods": [
   {
    "level": 0,
    "resolution": 156543.03392800014,
    "scale": 5.91657527591555E8
   },
   {
    "level": 1,
    "resolution": 78271.51696399994,
    "scale": 2.95828763795777E8
   },
   {
    "level": 2,
    "resolution": 39135.75848200009,
    "scale": 1.47914381897889E8
   },
   {
    "level": 3,
    "resolution": 19567.87924099992,
    "scale": 7.3957190948944E7
   },
   {
    "level": 4,
    "resolution": 9783.93962049996,
    "scale": 3.6978595474472E7
   },
   {
    "level": 5,
    "resolution": 4891.96981024998,
    "scale": 1.8489297737236E7
   },
   {
    "level": 6,
    "resolution": 2445.98490512499,
    "scale": 9244648.868618
   },
   {
    "level": 7,
    "resolution": 1222.992452562495,
    "scale": 4622324.434309
   },
   {
    "level": 8,
    "resolution": 611.4962262813797,
    "scale": 2311162.217155
   },
   {
    "level": 9,
    "resolution": 305.74811314055756,
    "scale": 1155581.108577
   },
   {
    "level": 10,
    "resolution": 152.87405657041106,
    "scale": 577790.554289
   },
   {
    "level": 11,
    "resolution": 76.43702828507324,
    "scale": 288895.277144
   },
   {
    "level": 12,
    "resolution": 38.21851414253662,
    "scale": 144447.638572
   },
   {
    "level": 13,
    "resolution": 19.10925707126831,
    "scale": 72223.819286
   },
   {
    "level": 14,
    "resolution": 9.554628535634155,
    "scale": 36111.909643
   },
   {
    "level": 15,
    "resolution": 4.77731426794937,
    "scale": 18055.954822
   },
   {
    "level": 16,
    "resolution": 2.388657133974685,
    "scale": 9027.977411
   },
   {
    "level": 17,
    "resolution": 1.1943285668550503,
    "scale": 4513.988705
   },
   {
    "level": 18,
    "resolution": 0.5971642835598172,
    "scale": 2256.994353
   },
   {
    "level": 19,
    "resolution": 0.29858214164761665,
    "scale": 1128.497176
   },
   {
    "level": 20,
    "resolution": 0.14929107082380833,
    "scale": 564.248588
   },
   {
    "level": 21,
    "resolution": 0.07464553541190416,
    "scale": 282.124294
   },
   {
    "level": 22,
    "resolution": 0.03732276770595208,
    "scale": 141.062147
   },
   {
    "level": 23,
    "resolution": 0.01866138385297604,
    "scale": 70.5310735
   }
  ]
 },
 "initialExtent": {
  "xmin": -1.6579331844840597E7,
  "ymin": -865221.3499309346,
  "xmax": -2470890.912079652,
  "ymax": 1.1462542571899017E7,
  "spatialReference": {
   "cs": "pcs",
   "wkid": 102100
  }
 },
 "fullExtent": {
  "xmin": -1.91150144882E7,
  "ymin": 1504254.2063000016,
  "xmax": 1.6110451841399997E7,
  "ymax": 1.0110596715800002E7,
  "spatialReference": {
   "cs": "pcs",
   "wkid": 102100
  }
 },
 "minScale": 5.91657527591555E8,
 "maxScale": 9027.977411,
 "minLOD": 0,
 "maxLOD": 16,
 "units": "esriMeters",
 "supportedImageFormatTypes": "PNG32,PNG24,PNG,JPG,DIB,TIFF,EMF,PS,PDF,GIF,SVG,SVGZ,BMP",
 "documentInfo": {
  "Title": "United States Wind Turbine Database (USWTDB)",
  "Author": "Hoen, B.D., Diffendorfer, J.E., Rand, J.T., Kramer, L.A., \u200b \u200bGarrity, C.P., Hunt, H.E., 2018, United States Wind Turbine Database: U.S. Geological Survey data release.",
  "Comments": "This project provides a publicly available, spatially referenced, national dataset of wind turbine locations and their corresponding facility information and turbine technical specifications. The project compiled wind turbine information from the Federal Aviation Administration (FAA), Lawrence Berkeley National Laboratory (LBNL), the American Wind Energy Association (AWEA), and United States Geological Survey (USGS) dataset, as well as online sources.\n\nAlthough this digital spatial database has been subjected to rigorous review and is substantially complete, it is released on the condition that neither the USGS, LBNL, AWEA nor the United States Government nor any agency thereof, nor any employees thereof, makes any warranty, expressed or implied, or assumes any legal liability or responsibility for the accuracy, completeness, or usefulness of any information contained within the database.",
  "Subject": "Service of publicly available, spatially referenced, national dataset of wind turbine locations and their corresponding facility information.",
  "Category": "",
  "AntialiasingMode": "None",
  "TextAntialiasingMode": "Force",
  "Keywords": "uswtdb,turbine,wind,database,wind energy"
 },
 "capabilities": "Map,Query,Data",
 "supportedQueryFormats": "JSON, geoJSON",
 "exportTilesAllowed": false,
 "datumTransformations": [
  {
   "geoTransforms": [
    {
     "wkid": 108190,
     "latestWkid": 108190,
     "transformForward": false,
     "name": "WGS_1984_(ITRF00)_To_NAD_1983"
    }
   ]
  },
  {
   "geoTransforms": [
    {
     "wkid": 108190,
     "latestWkid": 108190,
     "transformForward": true,
     "name": "WGS_1984_(ITRF00)_To_NAD_1983"
    }
   ]
  }
 ],
 "supportsDatumTransformation": true,
 "maxRecordCount": 1000,
 "maxImageHeight": 4096,
 "maxImageWidth": 4096,
 "supportedExtensions": "KmlServer"
}
