{
 "currentVersion": 10.71,
 "serviceDescription": "Abstract\n\nThis map sheet with accompanying Geographic Information System (GIS) project is an update of the existing U.S. Geological Survey (USGS) Conterminous U.S. Coal Fields map. This update was compiled using data primarily from the USGS National Coal Resource Assessment (NCRA) and information from other published maps. The five regions examined by NCRA (Eastern, Gulf Coast, Interior, Rocky Mountain, and Northern Great Plains) constituted 93 percent of U.S. coal production at the time of the assessments. The map sheet shows aerial extent, rank, province, name (region and field), and age information, which are also attributes of the GIS project. Due to changing technological and economic constraints for coal usage, along with the potential for geologic carbon dioxide sequestration, this map sheet and the GIS component of this report do not differentiate between potentially minable coal and uneconomic coal. Additional figures on the map sheet show coal formations, current production by State, coal rank definitions, and charts showing historical trends of coal production.\n\nEast, J.A., 2013, Coal fields of the conterminous United States\u2014National Coal Resource Assessment updated version: U.S. Geological Survey Open-File Report 2012\u20131205, one sheet, scale 1:5,000,000, available at http://pubs.usgs.gov/of/2012/1205/.\n",
 "mapName": "Layers",
 "description": "",
 "copyrightText": "",
 "supportsDynamicLayers": true,
 "layers": [
  {
   "id": 0,
   "name": "Coal Fields by Age",
   "parentLayerId": -1,
   "defaultVisibility": true,
   "subLayerIds": null,
   "minScale": 0,
   "maxScale": 0,
   "type": "Feature Layer",
   "geometryType": "esriGeometryPolygon"
  }
 ],
 "tables": [],
 "spatialReference": {
  "wkid": 102100,
  "latestWkid": 3857
 },
 "singleFusedMapCache": true,
 "tileInfo": {
  "rows": 256,
  "cols": 256,
  "dpi": 96,
  "format": "PNG",
  "compressionQuality": 0,
  "origin": {
   "x": -2.0037508342787E7,
   "y": 2.0037508342787E7
  },
  "spatialReference": {
   "wkid": 102100,
   "latestWkid": 3857
  },
  "lods": [
   {
    "level": 0,
    "resolution": 156543.033928,
    "scale": 5.91657527591555E8
   },
   {
    "level": 1,
    "resolution": 78271.5169639999,
    "scale": 2.95828763795777E8
   },
   {
    "level": 2,
    "resolution": 39135.7584820001,
    "scale": 1.47914381897889E8
   },
   {
    "level": 3,
    "resolution": 19567.8792409999,
    "scale": 7.3957190948944E7
   },
   {
    "level": 4,
    "resolution": 9783.93962049996,
    "scale": 3.6978595474472E7
   },
   {
    "level": 5,
    "resolution": 4891.96981024998,
    "scale": 1.8489297737236E7
   },
   {
    "level": 6,
    "resolution": 2445.98490512499,
    "scale": 9244648.868618
   },
   {
    "level": 7,
    "resolution": 1222.99245256249,
    "scale": 4622324.434309
   },
   {
    "level": 8,
    "resolution": 611.49622628138,
    "scale": 2311162.217155
   },
   {
    "level": 9,
    "resolution": 305.748113140558,
    "scale": 1155581.108577
   },
   {
    "level": 10,
    "resolution": 152.874056570411,
    "scale": 577790.554289
   },
   {
    "level": 11,
    "resolution": 76.4370282850732,
    "scale": 288895.277144
   },
   {
    "level": 12,
    "resolution": 38.2185141425366,
    "scale": 144447.638572
   },
   {
    "level": 13,
    "resolution": 19.1092570712683,
    "scale": 72223.819286
   },
   {
    "level": 14,
    "resolution": 9.55462853563415,
    "scale": 36111.909643
   },
   {
    "level": 15,
    "resolution": 4.77731426794937,
    "scale": 18055.954822
   },
   {
    "level": 16,
    "resolution": 2.38865713397468,
    "scale": 9027.977411
   },
   {
    "level": 17,
    "resolution": 1.19432856685505,
    "scale": 4513.988705
   },
   {
    "level": 18,
    "resolution": 0.597164283559817,
    "scale": 2256.994353
   },
   {
    "level": 19,
    "resolution": 0.298582141647617,
    "scale": 1128.497176
   },
   {
    "level": 20,
    "resolution": 0.14929107082380833,
    "scale": 564.248588
   },
   {
    "level": 21,
    "resolution": 0.07464553541190416,
    "scale": 282.124294
   },
   {
    "level": 22,
    "resolution": 0.03732276770595208,
    "scale": 141.062147
   },
   {
    "level": 23,
    "resolution": 0.01866138385297604,
    "scale": 70.5310735
   }
  ]
 },
 "initialExtent": {
  "xmin": -1.3422269424577866E7,
  "ymin": 3662281.893323902,
  "xmax": -8342138.193722135,
  "ymax": 7047466.652346395,
  "spatialReference": {
   "cs": "pcs",
   "wkid": 102100
  }
 },
 "fullExtent": {
  "xmin": -1.3844079967E7,
  "ymin": 3003294.840300001,
  "xmax": -7920327.6513,
  "ymax": 6275165.573600002,
  "spatialReference": {
   "cs": "pcs",
   "wkid": 102100
  }
 },
 "minScale": 5.91657527591555E8,
 "maxScale": 144447.638572,
 "units": "esriMeters",
 "supportedImageFormatTypes": "PNG32,PNG24,PNG,JPG,DIB,TIFF,EMF,PS,PDF,GIF,SVG,SVGZ,BMP",
 "documentInfo": {
  "Title": "Coal Fields of the Conterminous United States: National Coal Resource Assessment Updated Version",
  "Author": "East, J.A.",
  "Comments": "Abstract\n\nThis map sheet with accompanying Geographic Information System (GIS) project is an update of the existing U.S. Geological Survey (USGS) Conterminous U.S. Coal Fields map. This update was compiled using data primarily from the USGS National Coal Resource Assessment (NCRA) and information from other published maps. The five regions examined by NCRA (Eastern, Gulf Coast, Interior, Rocky Mountain, and Northern Great Plains) constituted 93 percent of U.S. coal production at the time of the assessments. The map sheet shows aerial extent, rank, province, name (region and field), and age information, which are also attributes of the GIS project. Due to changing technological and economic constraints for coal usage, along with the potential for geologic carbon dioxide sequestration, this map sheet and the GIS component of this report do not differentiate between potentially minable coal and uneconomic coal. Additional figures on the map sheet show coal formations, current production by State, coal rank definitions, and charts showing historical trends of coal production.\n\nEast, J.A., 2013, Coal fields of the conterminous United States\u2014National Coal Resource Assessment updated version: U.S. Geological Survey Open-File Report 2012\u20131205, one sheet, scale 1:5,000,000, available at http://pubs.usgs.gov/of/2012/1205/.\n",
  "Subject": "Coal Fields of the Conterminous United States: National Coal Resource Assessment Updated Version",
  "Category": "",
  "AntialiasingMode": "None",
  "TextAntialiasingMode": "Force",
  "Keywords": "NCRDS,USSTRAT,USCOAL"
 },
 "capabilities": "Map,Query,Data",
 "supportedQueryFormats": "JSON, geoJSON",
 "exportTilesAllowed": false,
 "supportsDatumTransformation": true,
 "maxRecordCount": 1000,
 "maxImageHeight": 4096,
 "maxImageWidth": 4096,
 "supportedExtensions": "KmlServer"
}
